BEGIN:VCALENDAR
VERSION:2.0
PRODID:-//Precision Group - ECPv6.15.20//NONSGML v1.0//EN
CALSCALE:GREGORIAN
METHOD:PUBLISH
X-WR-CALNAME:Precision Group
X-ORIGINAL-URL:https://goprecisiongroup.com
X-WR-CALDESC:Events for Precision Group
REFRESH-INTERVAL;VALUE=DURATION:PT1H
X-Robots-Tag:noindex
X-PUBLISHED-TTL:PT1H
BEGIN:VTIMEZONE
TZID:UTC
BEGIN:STANDARD
TZOFFSETFROM:+0000
TZOFFSETTO:+0000
TZNAME:UTC
DTSTART:20240101T000000
END:STANDARD
END:VTIMEZONE
BEGIN:VEVENT
DTSTART;VALUE=DATE:20250310
DTEND;VALUE=DATE:20250313
DTSTAMP:20260425T224750
CREATED:20250115T221023Z
LAST-MODIFIED:20250116T010812Z
UID:15003-1741564800-1741823999@goprecisiongroup.com
SUMMARY:TechAdvantage
DESCRIPTION:Join us in Atlanta\, GA for TechAdvantage. \nPrecision Group Team at TechAdvantage: \nSean Whalen & Joe Ascheman
URL:https://goprecisiongroup.com/event/techadvantage/
CATEGORIES:Tradeshows
ATTACH;FMTTYPE=image/jpeg:https://goprecisiongroup.com/wp-content/uploads/2025/01/TechAdvantage2025Revised.jpg
END:VEVENT
BEGIN:VEVENT
DTSTART;VALUE=DATE:20250310
DTEND;VALUE=DATE:20250313
DTSTAMP:20260425T224750
CREATED:20250115T225247Z
LAST-MODIFIED:20250115T225308Z
UID:15014-1741564800-1741823999@goprecisiongroup.com
SUMMARY:Minnesota Telecom Alliance (MTA)
DESCRIPTION:Join us in Prior Lake\, MN for the Minnesota Telecom Alliance (MTA). \nPrecision Group Team at the Minnesota Telecom Alliance (MTA): \nBryan Hughes & Ron Petrie
URL:https://goprecisiongroup.com/event/minnesota-telecom-alliance-mta/
CATEGORIES:Tradeshows
ATTACH;FMTTYPE=image/jpeg:https://goprecisiongroup.com/wp-content/uploads/2025/01/MNTelecomAlliance.jpg
END:VEVENT
END:VCALENDAR