BEGIN:VCALENDAR
VERSION:2.0
PRODID:-//Precision Group - ECPv6.15.20//NONSGML v1.0//EN
CALSCALE:GREGORIAN
METHOD:PUBLISH
X-WR-CALNAME:Precision Group
X-ORIGINAL-URL:https://goprecisiongroup.com
X-WR-CALDESC:Events for Precision Group
REFRESH-INTERVAL;VALUE=DURATION:PT1H
X-Robots-Tag:noindex
X-PUBLISHED-TTL:PT1H
BEGIN:VTIMEZONE
TZID:America/Chicago
BEGIN:DAYLIGHT
TZOFFSETFROM:-0600
TZOFFSETTO:-0500
TZNAME:CDT
DTSTART:20250309T080000
END:DAYLIGHT
BEGIN:STANDARD
TZOFFSETFROM:-0500
TZOFFSETTO:-0600
TZNAME:CST
DTSTART:20251102T070000
END:STANDARD
BEGIN:DAYLIGHT
TZOFFSETFROM:-0600
TZOFFSETTO:-0500
TZNAME:CDT
DTSTART:20260308T080000
END:DAYLIGHT
BEGIN:STANDARD
TZOFFSETFROM:-0500
TZOFFSETTO:-0600
TZNAME:CST
DTSTART:20261101T070000
END:STANDARD
BEGIN:DAYLIGHT
TZOFFSETFROM:-0600
TZOFFSETTO:-0500
TZNAME:CDT
DTSTART:20270314T080000
END:DAYLIGHT
BEGIN:STANDARD
TZOFFSETFROM:-0500
TZOFFSETTO:-0600
TZNAME:CST
DTSTART:20271107T070000
END:STANDARD
END:VTIMEZONE
BEGIN:VEVENT
DTSTART;VALUE=DATE:20260204
DTEND;VALUE=DATE:20260206
DTSTAMP:20260423T072153
CREATED:20260129T192900Z
LAST-MODIFIED:20260130T153735Z
UID:20654-1770163200-1770335999@goprecisiongroup.com
SUMMARY:P&T Tech Summit Iowa
DESCRIPTION:Join us in Johnston\, IA for the P&T Tech Summit. \nPrecision Group Team at the P&T Tech Summit: \nRon Petrie
URL:https://goprecisiongroup.com/event/pt-tech-summit-iowa/
CATEGORIES:Tradeshows
ATTACH;FMTTYPE=image/jpeg:https://goprecisiongroup.com/wp-content/uploads/2026/01/PowerandTelTechSummitREv2026.jpg
END:VEVENT
END:VCALENDAR