BEGIN:VCALENDAR
VERSION:2.0
PRODID:-//Precision Group - ECPv6.15.20//NONSGML v1.0//EN
CALSCALE:GREGORIAN
METHOD:PUBLISH
X-ORIGINAL-URL:https://goprecisiongroup.com
X-WR-CALDESC:Events for Precision Group
REFRESH-INTERVAL;VALUE=DURATION:PT1H
X-Robots-Tag:noindex
X-PUBLISHED-TTL:PT1H
BEGIN:VTIMEZONE
TZID:America/Chicago
BEGIN:DAYLIGHT
TZOFFSETFROM:-0600
TZOFFSETTO:-0500
TZNAME:CDT
DTSTART:20250309T080000
END:DAYLIGHT
BEGIN:STANDARD
TZOFFSETFROM:-0500
TZOFFSETTO:-0600
TZNAME:CST
DTSTART:20251102T070000
END:STANDARD
BEGIN:DAYLIGHT
TZOFFSETFROM:-0600
TZOFFSETTO:-0500
TZNAME:CDT
DTSTART:20260308T080000
END:DAYLIGHT
BEGIN:STANDARD
TZOFFSETFROM:-0500
TZOFFSETTO:-0600
TZNAME:CST
DTSTART:20261101T070000
END:STANDARD
BEGIN:DAYLIGHT
TZOFFSETFROM:-0600
TZOFFSETTO:-0500
TZNAME:CDT
DTSTART:20270314T080000
END:DAYLIGHT
BEGIN:STANDARD
TZOFFSETFROM:-0500
TZOFFSETTO:-0600
TZNAME:CST
DTSTART:20271107T070000
END:STANDARD
END:VTIMEZONE
BEGIN:VEVENT
DTSTART;VALUE=DATE:20260309
DTEND;VALUE=DATE:20260312
DTSTAMP:20260423T054436
CREATED:20260130T151444Z
LAST-MODIFIED:20260130T151444Z
UID:20667-1773014400-1773273599@goprecisiongroup.com
SUMMARY:MTA Annual Convention & Trade Show
DESCRIPTION:Join us in Johnston\, IA for the MTA Annual Convention & Trade Show. \nPrecision Group Team at the MTA Annual Convention & Trade Show: \nBryan Hughes & Ron Petrie
URL:https://goprecisiongroup.com/event/mta-annual-convention-trade-show/
CATEGORIES:Tradeshows
ATTACH;FMTTYPE=image/jpeg:https://goprecisiongroup.com/wp-content/uploads/2026/01/MTA3.jpg
END:VEVENT
END:VCALENDAR