BEGIN:VCALENDAR
VERSION:2.0
PRODID:-//Precision Group - ECPv6.15.20//NONSGML v1.0//EN
CALSCALE:GREGORIAN
METHOD:PUBLISH
X-ORIGINAL-URL:https://goprecisiongroup.com
X-WR-CALDESC:Events for Precision Group
REFRESH-INTERVAL;VALUE=DURATION:PT1H
X-Robots-Tag:noindex
X-PUBLISHED-TTL:PT1H
BEGIN:VTIMEZONE
TZID:UTC
BEGIN:STANDARD
TZOFFSETFROM:+0000
TZOFFSETTO:+0000
TZNAME:UTC
DTSTART:20240101T000000
END:STANDARD
END:VTIMEZONE
BEGIN:VEVENT
DTSTART;VALUE=DATE:20250401
DTEND;VALUE=DATE:20250404
DTSTAMP:20260425T193923
CREATED:20250116T001737Z
LAST-MODIFIED:20250116T001903Z
UID:15044-1743465600-1743724799@goprecisiongroup.com
SUMMARY:Texas Expo (TCEI)
DESCRIPTION:Join us in Belton\, TX for the Texas Expo (TCEI). \nPrecision Group Team at the Texas Expo (TCEI) : \nBryan Hughes & Dru McMillan
URL:https://goprecisiongroup.com/event/texas-expo-tcei/
CATEGORIES:Tradeshows
ATTACH;FMTTYPE=image/jpeg:https://goprecisiongroup.com/wp-content/uploads/2025/01/TexasExpo2025.jpg
END:VEVENT
BEGIN:VEVENT
DTSTART;VALUE=DATE:20250408
DTEND;VALUE=DATE:20250410
DTSTAMP:20260425T193923
CREATED:20250115T224235Z
LAST-MODIFIED:20250115T224235Z
UID:15011-1744070400-1744243199@goprecisiongroup.com
SUMMARY:Core TEL Forum
DESCRIPTION:Join us in Salina\, KS for the Core TEL Forum. \nPrecision Group Team at the Core TEL Forum: \nMatt Kautter
URL:https://goprecisiongroup.com/event/core-tel-forum-3/
CATEGORIES:Tradeshows
ATTACH;FMTTYPE=image/jpeg:https://goprecisiongroup.com/wp-content/uploads/2025/01/CoreTelForumsalina.jpg
END:VEVENT
END:VCALENDAR