BEGIN:VCALENDAR
VERSION:2.0
PRODID:-//Precision Group - ECPv6.15.14//NONSGML v1.0//EN
CALSCALE:GREGORIAN
METHOD:PUBLISH
X-WR-CALNAME:Precision Group
X-ORIGINAL-URL:https://goprecisiongroup.com
X-WR-CALDESC:Events for Precision Group
REFRESH-INTERVAL;VALUE=DURATION:PT1H
X-Robots-Tag:noindex
X-PUBLISHED-TTL:PT1H
BEGIN:VTIMEZONE
TZID:America/Chicago
BEGIN:DAYLIGHT
TZOFFSETFROM:-0600
TZOFFSETTO:-0500
TZNAME:CDT
DTSTART:20250309T080000
END:DAYLIGHT
BEGIN:STANDARD
TZOFFSETFROM:-0500
TZOFFSETTO:-0600
TZNAME:CST
DTSTART:20251102T070000
END:STANDARD
BEGIN:DAYLIGHT
TZOFFSETFROM:-0600
TZOFFSETTO:-0500
TZNAME:CDT
DTSTART:20260308T080000
END:DAYLIGHT
BEGIN:STANDARD
TZOFFSETFROM:-0500
TZOFFSETTO:-0600
TZNAME:CST
DTSTART:20261101T070000
END:STANDARD
BEGIN:DAYLIGHT
TZOFFSETFROM:-0600
TZOFFSETTO:-0500
TZNAME:CDT
DTSTART:20270314T080000
END:DAYLIGHT
BEGIN:STANDARD
TZOFFSETFROM:-0500
TZOFFSETTO:-0600
TZNAME:CST
DTSTART:20271107T070000
END:STANDARD
END:VTIMEZONE
BEGIN:VEVENT
DTSTART;VALUE=DATE:20260630
DTEND;VALUE=DATE:20260703
DTSTAMP:20260419T081623
CREATED:20260416T152133Z
LAST-MODIFIED:20260416T152133Z
UID:21271-1782777600-1783036799@goprecisiongroup.com
SUMMARY:104th Annual Indiana Broadband and Technology Association Convention
DESCRIPTION:Join us in French Lick\, IN for the 104th Annual Indiana Broadband and Technology Association Convention. \nPrecision Group Team at the 104th Annual Indiana Broadband and Technology Association Convention: \nRon Petrie
URL:https://goprecisiongroup.com/event/104th-annual-indiana-broadband-and-technology-association-convention/
CATEGORIES:Tradeshows
ATTACH;FMTTYPE=image/jpeg:https://goprecisiongroup.com/wp-content/uploads/2026/03/IBTAEventIndiana.jpg
END:VEVENT
END:VCALENDAR